BEGIN:VCALENDAR
VERSION:2.0
BEGIN:VEVENT
UID:51993D59-CDC9-40A3-890D-3538E911A86A
DTSTART:20231206T190000Z
DTEND:20231206T210000Z
SUMMARY:Angel’s Envy Holiday Cocktail Class at The Kimpton
DESCRIPTION:Join us for an exciting evening of festive mixology at the Ange
 l's Envy Holiday Cocktail Class at downtown Fort Worth’s The Kimpton Harpe
 r. On December 6 from 7 to 9 p.m.\, you’ll learn to elevate your holiday s
 pirits as an expert mixologist guides you through the art of crafting deli
 cious and unique cocktails. \nDuring this interactive class\, you'll have
  the opportunity to experiment with a variety of premium ingredients\, inc
 luding the renowned Angel's Envy Whiskey. Cheers to a festive and flavorfu
 l holiday season! Sign up here .\nRefinery 714 at The Kimpton Harper\n714
  Main St.\nFort Worth\, TX 76102 United States\n
LOCATION:714 Main St.\, Fort Worth\, TX 76102
URL:http://fortworth.bubblelife.com/community/fortworth_calendar/library/35
 880433/key/3511035972/Angels_Envy_Holiday_Cocktail_Class_at_The_Kimpton
CREATED:20231122T152725Z
LAST-MODIFIED:20231122T152725Z
DTSTAMP:20260420T122131Z
CLASS:PUBLIC
STATUS:CONFIRMED
TRANSP:TRANSPARENT
SEQUENCE:1
END:VEVENT
END:VCALENDAR
